BEGIN:VCALENDAR
VERSION:2.0
PRODID:-//Shames JCC - ECPv6.1.3//NONSGML v1.0//EN
CALSCALE:GREGORIAN
METHOD:PUBLISH
X-ORIGINAL-URL:https://shamesjcc.npgdev.com
X-WR-CALDESC:Events for Shames JCC
REFRESH-INTERVAL;VALUE=DURATION:PT1H
X-Robots-Tag:noindex
X-PUBLISHED-TTL:PT1H
BEGIN:VTIMEZONE
TZID:America/New_York
BEGIN:DAYLIGHT
TZOFFSETFROM:-0500
TZOFFSETTO:-0400
TZNAME:EDT
DTSTART:20230312T070000
END:DAYLIGHT
BEGIN:STANDARD
TZOFFSETFROM:-0400
TZOFFSETTO:-0500
TZNAME:EST
DTSTART:20231105T060000
END:STANDARD
END:VTIMEZONE
BEGIN:VEVENT
DTSTART;TZID=America/New_York:20230205T150000
DTEND;TZID=America/New_York:20230205T163000
DTSTAMP:20260420T113145
CREATED:20230106T152156Z
LAST-MODIFIED:20230111T153425Z
UID:10001587-1675609200-1675614600@shamesjcc.npgdev.com
SUMMARY:Special Film Screening and Director Discussion: Zaida
DESCRIPTION:Zaida\nPlease join us for a special film screening of Zaida\, followed by a moderated discussion with Sophie Parens\, the director of the film\, and Bruce Apar\, editorial director of River Journal. In the award-winning documentary short Zaida\, director Sophie Parens tells the story of her grandfather\, Holocaust survivor Dr. Henri Parens. Born in Lodz\, Poland in 1928\, Dr. Parens escaped Nazi-occupied Europe at age 12. He made it to the United States and went on to become a globally recognized psychoanalyst\, dedicating his life’s work to the prevention of prejudice. \nAbout Sophie Parens \nSophie Parens is a director and producer based in New York. Originally from Sleepy Hollow\, she graduated from the New School for Drama with a concentration in Directing in 2017. She is the producer and director of the award-winning documentary short\, Zaida. By day she does casting\, producing\, and directing for Simon and Schuster Audiobooks\, and by night she is developing her next documentary. \nWatch the trailer \n 
URL:https://shamesjcc.npgdev.com/event/zaida/
LOCATION:Chappaqua Public Library\, 195 South Greeley Avenue\, Chappaqua\, NY\, 10514\, United States
CATEGORIES:Jewish Life
ATTACH;FMTTYPE=image/jpeg:https://shamesjcc.npgdev.com/wp-content/uploads/2023/01/Zaid.jpg
END:VEVENT
END:VCALENDAR