BEGIN:VCALENDAR
VERSION:2.0
PRODID:-//Shames JCC - ECPv6.1.3//NONSGML v1.0//EN
CALSCALE:GREGORIAN
METHOD:PUBLISH
X-WR-CALNAME:Shames JCC
X-ORIGINAL-URL:https://shamesjcc.npgdev.com
X-WR-CALDESC:Events for Shames JCC
REFRESH-INTERVAL;VALUE=DURATION:PT1H
X-Robots-Tag:noindex
X-PUBLISHED-TTL:PT1H
BEGIN:VTIMEZONE
TZID:America/New_York
BEGIN:DAYLIGHT
TZOFFSETFROM:-0500
TZOFFSETTO:-0400
TZNAME:EDT
DTSTART:20250309T070000
END:DAYLIGHT
BEGIN:STANDARD
TZOFFSETFROM:-0400
TZOFFSETTO:-0500
TZNAME:EST
DTSTART:20251102T060000
END:STANDARD
END:VTIMEZONE
BEGIN:VEVENT
DTSTART;VALUE=DATE:20250901
DTEND;VALUE=DATE:20250902
DTSTAMP:20260420T111844
CREATED:20250825T155722Z
LAST-MODIFIED:20250825T155817Z
UID:10003674-1756684800-1756771199@shamesjcc.npgdev.com
SUMMARY:JCC Closed for Labor Day
DESCRIPTION:The JCC will be closed in observance of Labor Day.
URL:https://shamesjcc.npgdev.com/event/jcc-closed-for-labor-day/
ATTACH;FMTTYPE=image/png:https://shamesjcc.npgdev.com/wp-content/uploads/2025/08/labor-day.png
END:VEVENT
BEGIN:VEVENT
DTSTART;TZID=America/New_York:20250903T113000
DTEND;TZID=America/New_York:20250903T130000
DTSTAMP:20260420T111844
CREATED:20250728T141554Z
LAST-MODIFIED:20250814T204541Z
UID:10003623-1756899000-1756904400@shamesjcc.npgdev.com
SUMMARY:Hot Topics
DESCRIPTION:FREE for members & non-members \nDiscuss the month’s social and political issues with your fellow news enthusiasts. With timely and changing international\, national\, and local issues from the news arenas of government\, arts\, sports\, science\, and religion\, we welcome all participants to voice their ideas. All points of view are welcome in this lively\, thought-provoking\, and civil discussion. Feel free to bring your lunch and/or a friend!
URL:https://shamesjcc.npgdev.com/event/hot-topics-14/
ATTACH;FMTTYPE=image/jpeg:https://shamesjcc.npgdev.com/wp-content/uploads/2020/05/newspapers-folded-form-background_100488-637.jpg
END:VEVENT
BEGIN:VEVENT
DTSTART;TZID=America/New_York:20250903T183000
DTEND;TZID=America/New_York:20250903T200000
DTSTAMP:20260420T111844
CREATED:20250806T151247Z
LAST-MODIFIED:20250806T151247Z
UID:10003634-1756924200-1756929600@shamesjcc.npgdev.com
SUMMARY:Through Other’s Eyes
DESCRIPTION:FREE for members & non-members \nCome experience an insider view of the way Jewish and Arab Israelis can embrace a spirit of cooperation and conflict resolution. In this project from Givat Haviva–an organization dedicated to promoting a spirit of co-existence and mutual respect between Israeli communities–two Jewish Israeli and Arab Israeli teens will reflect on a year-long photography project in each other’s neighborhoods that allowed them to engage in dialogue and mutual understanding.
URL:https://shamesjcc.npgdev.com/event/through-others-eyes/
ATTACH;FMTTYPE=image/jpeg:https://shamesjcc.npgdev.com/wp-content/uploads/2025/08/Handshake-scaled.jpg
END:VEVENT
BEGIN:VEVENT
DTSTART;TZID=America/New_York:20250905T093000
DTEND;TZID=America/New_York:20250905T103000
DTSTAMP:20260420T111844
CREATED:20250813T150349Z
LAST-MODIFIED:20250813T150757Z
UID:10003663-1757064600-1757068200@shamesjcc.npgdev.com
SUMMARY:Clergy Talk: Inside Chabad with Rabbi Benjy Silverman
DESCRIPTION:FREE for members & non-members \nRabbi Benjy will pull back the curtain on Chabad and provide an honest look at the beliefs\, mission\, and daily reality of being a Chabadnik.
URL:https://shamesjcc.npgdev.com/event/clergy-talk-inside-chabad-with-rabbi-benjy-silverman/
ATTACH;FMTTYPE=image/png:https://shamesjcc.npgdev.com/wp-content/uploads/2025/08/rabbi-benjy.png
END:VEVENT
END:VCALENDAR