BEGIN:VCALENDAR
VERSION:2.0
PRODID:-//Shames JCC - ECPv6.1.3//NONSGML v1.0//EN
CALSCALE:GREGORIAN
METHOD:PUBLISH
X-ORIGINAL-URL:https://shamesjcc.npgdev.com
X-WR-CALDESC:Events for Shames JCC
REFRESH-INTERVAL;VALUE=DURATION:PT1H
X-Robots-Tag:noindex
X-PUBLISHED-TTL:PT1H
BEGIN:VTIMEZONE
TZID:America/New_York
BEGIN:DAYLIGHT
TZOFFSETFROM:-0500
TZOFFSETTO:-0400
TZNAME:EDT
DTSTART:20250309T070000
END:DAYLIGHT
BEGIN:STANDARD
TZOFFSETFROM:-0400
TZOFFSETTO:-0500
TZNAME:EST
DTSTART:20251102T060000
END:STANDARD
END:VTIMEZONE
BEGIN:VEVENT
DTSTART;TZID=America/New_York:20250707T100000
DTEND;TZID=America/New_York:20250707T110000
DTSTAMP:20260425T145608
CREATED:20250611T140539Z
LAST-MODIFIED:20250611T140539Z
UID:10003593-1751882400-1751886000@shamesjcc.npgdev.com
SUMMARY:Tech Topics: Navigating the JCC Online
DESCRIPTION:FREE for members and non-members \nWould you like to make sure you’re getting JCC emails? Want to clarify how to register for a lecture or sign up for a group exercise class? Still struggling with how to find the pickleball and aquatics schedule online? Mel Hoodlet from the Welcome Desk will help you learn how to confidently navigate the JCC website. You’re welcome to watch as we go through details on the big screen\, or bring your devices (laptop\, tablet\, cell phone) and walk  through the steps with us.
URL:https://shamesjcc.npgdev.com/event/tech-topics-navigating-the-jcc-online/
ATTACH;FMTTYPE=image/png:https://shamesjcc.npgdev.com/wp-content/uploads/2025/06/jcc-technology-event.png
END:VEVENT
BEGIN:VEVENT
DTSTART;TZID=America/New_York:20250709T113000
DTEND;TZID=America/New_York:20250709T133000
DTSTAMP:20260425T145608
CREATED:20250702T211035Z
LAST-MODIFIED:20250717T143133Z
UID:10003605-1752060600-1752067800@shamesjcc.npgdev.com
SUMMARY:Documentary Screening: “Caregiving” (Dir: Bradley Cooper)
DESCRIPTION:FREE for members and non-members\n(running time 1 hour\, 53 mins)\n \nNew from Executive Producer Bradley Cooper comes the story of paid and unpaid caregivers navigating the challenges and joys of this deeply meaningful work. Intertwining intimate personal stories with the untold history of caregiving\, the PBS documentary reveals America’s caregiving crisis through intimate stories and expert insight.
URL:https://shamesjcc.npgdev.com/event/documentary-screening-caregiving-dir-bradley-cooper/
ATTACH;FMTTYPE=image/jpeg:https://shamesjcc.npgdev.com/wp-content/uploads/2025/07/caregiving-scaled.jpg
END:VEVENT
BEGIN:VEVENT
DTSTART;TZID=America/New_York:20250709T190000
DTEND;TZID=America/New_York:20250709T210000
DTSTAMP:20260425T145608
CREATED:20250515T174847Z
LAST-MODIFIED:20250606T201743Z
UID:10003574-1752087600-1752094800@shamesjcc.npgdev.com
SUMMARY:Cool at Camp: A New Musical Comedy
DESCRIPTION:Doors open at 6:00 pm\nMembers: $42; non-members: $46\nAge 16+ recommended  \nGather your camp BFFs\, put on your favorite camp swag\, and come revisit your summers at sleep away camp as we present a reading of a real and raunchy meshuga musical about kids\, camp\, and coming of age. \n 
URL:https://shamesjcc.npgdev.com/event/cool-at-camp-a-new-musical-comedy/
ATTACH;FMTTYPE=image/png:https://shamesjcc.npgdev.com/wp-content/uploads/2025/05/Cool-at-camp-web.png
END:VEVENT
BEGIN:VEVENT
DTSTART;TZID=America/New_York:20250711T093000
DTEND;TZID=America/New_York:20250711T103000
DTSTAMP:20260425T145608
CREATED:20250627T162954Z
LAST-MODIFIED:20250717T143137Z
UID:10003600-1752226200-1752229800@shamesjcc.npgdev.com
SUMMARY:Challah and Conversation: "Adam & Eve and Adam & Steve: Exploring Religious Perspectives on Gay Marriage"
DESCRIPTION:Rabbi Ron Symons will guide us through the sensitive matters related to how different religious denominations across the religions understand the role of 21st century marriage considering long-held religious beliefs. \nIn the Challah and Conversation series\, Rabbi Ron Symons\, Shames JCC Sr. Director of Jewish Engagement\, leads interactive guided conversations about life that weave the world around us with general spirituality through Jewish and other  lenses. We begin our time together by lighting candles and end with a little grape juice and challah… all in a very inclusive way. Neighbors of all backgrounds are welcome. These are on the 2nd\, 3rd\, 4th\, and 5th Fridays of each month.
URL:https://shamesjcc.npgdev.com/event/challah-and-conversation-adam-eve-and-adam-steve-exploring-religious-perspectives-on-gay-marriage-2/
CATEGORIES:Jewish Life
ATTACH;FMTTYPE=image/jpeg:https://shamesjcc.npgdev.com/wp-content/uploads/2025/04/GayMarriage.jpg
END:VEVENT
END:VCALENDAR