BEGIN:VCALENDAR
VERSION:2.0
PRODID:-//Shames JCC - ECPv6.1.3//NONSGML v1.0//EN
CALSCALE:GREGORIAN
METHOD:PUBLISH
X-ORIGINAL-URL:https://shamesjcc.npgdev.com
X-WR-CALDESC:Events for Shames JCC
REFRESH-INTERVAL;VALUE=DURATION:PT1H
X-Robots-Tag:noindex
X-PUBLISHED-TTL:PT1H
BEGIN:VTIMEZONE
TZID:America/New_York
BEGIN:DAYLIGHT
TZOFFSETFROM:-0500
TZOFFSETTO:-0400
TZNAME:EDT
DTSTART:20250309T070000
END:DAYLIGHT
BEGIN:STANDARD
TZOFFSETFROM:-0400
TZOFFSETTO:-0500
TZNAME:EST
DTSTART:20251102T060000
END:STANDARD
END:VTIMEZONE
BEGIN:VEVENT
DTSTART;TZID=America/New_York:20250623T100000
DTEND;TZID=America/New_York:20250623T113000
DTSTAMP:20260424T133426
CREATED:20250422T173337Z
LAST-MODIFIED:20250501T143924Z
UID:10003549-1750672800-1750678200@shamesjcc.npgdev.com
SUMMARY:Did Democracy Survive 2024’s “Super Election Year?"
DESCRIPTION:In 2024\, half the world’s population voted. At the same time\, growing challenges around the world — including declining trust in political institutions\, foreign information manipulation\, and new forms of technology — created what some considered “a perfect storm” to test elections and democratic institutions globally. What have been the results and trends from these elections?  What can we learn from taking a global perspective on the future of democracy? \nAbout the presenter: John K. Glenn is senior director of the International Forum for Democratic Studies\, where he oversees and develops the Forum’s cross-cutting analytic and research activity in areas including transnational kleptocracy\, the integrity of the information space\, emerging technology\, and modern authoritarian influence. Glenn has over 20 years of international experience in the nonprofit\, foundation\, and academic sectors\, having previously served as policy director at the U.S. Global Leadership Coalition\, director of foreign policy at the German Marshall Fund of the United States\, and executive director of the Council for European Studies. Glenn holds a B.A. from Oberlin College and Ph.D. and A.M. from Harvard University and was a postdoctoral fellow at the European University Institute in Florence and Institute for Human Sciences in Vienna.  He is the author of numerous articles\, reports\, and books on international affairs and democratic development.
URL:https://shamesjcc.npgdev.com/event/did-democracy-survive-2024s-super-election-year/
ATTACH;FMTTYPE=image/jpeg:https://shamesjcc.npgdev.com/wp-content/uploads/2025/04/Year-of-Elections.jpg
END:VEVENT
BEGIN:VEVENT
DTSTART;TZID=America/New_York:20250625T123000
DTEND;TZID=America/New_York:20250625T140000
DTSTAMP:20260424T133426
CREATED:20250529T143514Z
LAST-MODIFIED:20250529T152302Z
UID:10003586-1750854600-1750860000@shamesjcc.npgdev.com
SUMMARY:Lunch Outing: Haiku Asian Bistro
DESCRIPTION:$20 cash includes soup or salad\, choice of lunch entree\, tax\, and tip \nJoin us at Haiku Asian Bistro\, a 2021 Best of Westchester winner that serves classic yet modern  dishes from China\, Thailand\, Japan\, Malaysia\, and elsewhere in East and South Asia. Your meal includes soup or salad and your choice of lunch entree. Vegetarians welcome! Space is limited to 20 – sign up early! \nNOTE: We will be meeting at Haiku\, 149 Mamaroneck Ave\, White Plains\, NY 10601. Street and metered parking is available; the closest municipal lot is the Waller-Maple Lot behind the Haiku\, and you can enter the restaurant from the back. If you need a ride to and from Haiku from the JCC or have room in your car for others\, please email cjacobs@shamesjcc.org when you register.
URL:https://shamesjcc.npgdev.com/event/lunch-outing-haiku-asian-bistro/
ATTACH;FMTTYPE=image/webp:https://shamesjcc.npgdev.com/wp-content/uploads/2025/05/haiku.webp
END:VEVENT
BEGIN:VEVENT
DTSTART;TZID=America/New_York:20250627T093000
DTEND;TZID=America/New_York:20250627T103000
DTSTAMP:20260424T133426
CREATED:20250516T190022Z
LAST-MODIFIED:20250529T173939Z
UID:10003578-1751016600-1751020200@shamesjcc.npgdev.com
SUMMARY:Challah and Conversation: "The Golden Medinah: Jewish Life in America over 249 Years"
DESCRIPTION:As we anticipate July 4\, Rabbi Ron Symons will guide us in exploring Jewish life in America across the centuries\, how it has evolved\, and what it looks like today. \nIn the Challah and Conversation series\, Rabbi Ron Symons\, Shames JCC Sr. Director of Jewish Engagement\, leads interactive guided conversations about life that weave the world around us with general spirituality through Jewish and other  lenses. We begin our time together by lighting candles and end with a little grape juice and challah… all in a very inclusive way. Neighbors of all backgrounds are welcome. These are on the 2nd\, 3rd\, 4th\, and 5th Fridays of each month.
URL:https://shamesjcc.npgdev.com/event/challah-and-conversation-the-golden-medinah-jewish-life-in-america-over-249-years/
CATEGORIES:Jewish Life
ATTACH;FMTTYPE=image/jpeg:https://shamesjcc.npgdev.com/wp-content/uploads/2025/04/AMERICANFLAG1.jpg
END:VEVENT
END:VCALENDAR