BEGIN:VCALENDAR
VERSION:2.0
PRODID:-//Shames JCC - ECPv6.1.3//NONSGML v1.0//EN
CALSCALE:GREGORIAN
METHOD:PUBLISH
X-ORIGINAL-URL:https://shamesjcc.npgdev.com
X-WR-CALDESC:Events for Shames JCC
REFRESH-INTERVAL;VALUE=DURATION:PT1H
X-Robots-Tag:noindex
X-PUBLISHED-TTL:PT1H
BEGIN:VTIMEZONE
TZID:America/New_York
BEGIN:DAYLIGHT
TZOFFSETFROM:-0500
TZOFFSETTO:-0400
TZNAME:EDT
DTSTART:20250309T070000
END:DAYLIGHT
BEGIN:STANDARD
TZOFFSETFROM:-0400
TZOFFSETTO:-0500
TZNAME:EST
DTSTART:20251102T060000
END:STANDARD
END:VTIMEZONE
BEGIN:VEVENT
DTSTART;TZID=America/New_York:20250512T100000
DTEND;TZID=America/New_York:20250512T113000
DTSTAMP:20260422T183312
CREATED:20250403T200109Z
LAST-MODIFIED:20250501T143401Z
UID:10003532-1747044000-1747049400@shamesjcc.npgdev.com
SUMMARY:The Pardon Power: Uses and Abuses
DESCRIPTION:Jess Velona explores how presidential pardons\, while often merciful or remedial for judicial errors\, have also been granted amidst some of the greatest political controversies in our history.  Some examples include Andrew Johnson’s mass pardons of ex-Confederates\, Ford’s pardon of Nixon’s Watergate\, Carter’s mass pardons of Vietnam draft evaders\, Clinton’s pardon of fugitive Marc Rich\, Biden’s pardon of his son\, and Trump’s mass pardons of January 6 defendants.  Jess will address what limits exist upon the pardon power\, particularly after the Supreme Court’s recent decision on presidential immunity. \nAbout the Presenter: Jess Velona has taught courses on Russian history\, the Nazi regime\, and other topics at Fordham University’s College at 60 and NYU’s School of Professional Studies\, as well as African American history at CUNY’s College of Staten Island. He has been a Lecturer-in-Law at Columbia Law School since 2006.  Jess graduated from Harvard College and received an MA in history from NYU before completing Columbia Law School\, where he has been a lecturer-in-law since 2006. Jess previously served as a law clerk for then-Judge Ruth Bader Ginsburg. As a one time candidate for public office in Manhattan and former aide to Senator Daniel Patrick Moynihan\, Jess loves sharing his passion for politics and history with students and adult audiences across the New York metropolitan area.
URL:https://shamesjcc.npgdev.com/event/the-history-of-film-music/
ATTACH;FMTTYPE=image/jpeg:https://shamesjcc.npgdev.com/wp-content/uploads/2025/03/pardon.jpg
END:VEVENT
BEGIN:VEVENT
DTSTART;TZID=America/New_York:20250513T123000
DTEND;TZID=America/New_York:20250513T133000
DTSTAMP:20260422T183312
CREATED:20250416T135744Z
LAST-MODIFIED:20250416T135744Z
UID:10003544-1747139400-1747143000@shamesjcc.npgdev.com
SUMMARY:Israel Culture Connection with our Shinshin: “You’re in the army now!”
DESCRIPTION:Join our youth ambassador Asaf Bader as he discusses the realities and emotions surrounding graduating high school and entering the Israel Defense Force. With your help\, Asaf will compare and contrast the American high school experience with the Israeli. Hummus and pita for swiping will make our conversation all the more festive.
URL:https://shamesjcc.npgdev.com/event/israel-culture-connection-with-our-shinshin-youre-in-the-army-now/
ATTACH;FMTTYPE=image/png:https://shamesjcc.npgdev.com/wp-content/uploads/2023/10/Israel-Flag2.png
END:VEVENT
BEGIN:VEVENT
DTSTART;TZID=America/New_York:20250514T110000
DTEND;TZID=America/New_York:20250514T120000
DTSTAMP:20260422T183312
CREATED:20250506T133938Z
LAST-MODIFIED:20250507T195929Z
UID:10003567-1747220400-1747224000@shamesjcc.npgdev.com
SUMMARY:PB&J Sandwich Making for the Food Insecure
DESCRIPTION:Before we enjoy our outdoor potluck picnic\, join us to support those who are food insecure. We’ll make PB&J sandwiches for the residents of the Broadway Manor Shelter in Yonkers. Feel free to bring sliced bread to contribute to these efforts. \nNo RSVP needed.
URL:https://shamesjcc.npgdev.com/event/pbj-sandwich-making-for-the-food-insecure/
ATTACH;FMTTYPE=image/jpeg:https://shamesjcc.npgdev.com/wp-content/uploads/2024/11/pbj-baycare-clinic-blog.jpg
END:VEVENT
BEGIN:VEVENT
DTSTART;TZID=America/New_York:20250514T120000
DTEND;TZID=America/New_York:20250514T140000
DTSTAMP:20260422T183312
CREATED:20250424T201241Z
LAST-MODIFIED:20250424T201241Z
UID:10003558-1747224000-1747231200@shamesjcc.npgdev.com
SUMMARY:Verve Potluck Picnic
DESCRIPTION:FREE for members and non-members \nBring a dish to share with friends new and not-new for a potluck picnic at the JCC! We’ll gather under the tent in the front lawn to celebrate spring. Drinks and dessert on us! \nNOTE: Please include a list of ingredients with your dish in case of allergies. \nClick here to tell us what you’re bringing!
URL:https://shamesjcc.npgdev.com/event/verve-potluck-picnic/
ATTACH;FMTTYPE=image/png:https://shamesjcc.npgdev.com/wp-content/uploads/2025/04/potluck.png
END:VEVENT
BEGIN:VEVENT
DTSTART;TZID=America/New_York:20250514T130000
DTEND;TZID=America/New_York:20250514T190000
DTSTAMP:20260422T183312
CREATED:20250403T194531Z
LAST-MODIFIED:20250404T175321Z
UID:10003530-1747227600-1747249200@shamesjcc.npgdev.com
SUMMARY:Blood Drive
DESCRIPTION:Every two seconds\, someone in the U.S. needs blood. Do a mitzvah; sign up to give blood at the J! When you donate blood\, you help patients of all ages who may be undergoing treatment for cancer\, chronic illness\, traumatic accidents and injuries\, and more.
URL:https://shamesjcc.npgdev.com/event/blood-drive/
ATTACH;FMTTYPE=image/png:https://shamesjcc.npgdev.com/wp-content/uploads/2025/04/Blood-drive-1.png
END:VEVENT
BEGIN:VEVENT
DTSTART;TZID=America/New_York:20250514T183000
DTEND;TZID=America/New_York:20250514T200000
DTSTAMP:20260422T183312
CREATED:20250425T175739Z
LAST-MODIFIED:20250425T181643Z
UID:10003560-1747247400-1747252800@shamesjcc.npgdev.com
SUMMARY:A Workshop for Renewal: Restorative Yoga + River Stone Mandalas
DESCRIPTION:Members: $30; non-members: $35 \nTap into this restorative workshop that will leave you with a lasting sense of well-being. We’ll start with the deeply restful practices of restorative yoga and yoga nidra. You’ll then create a personal river stone mandala—a literal touchstone of inner peace and reminder of your own inherent beauty\, wisdom\, and strength. \n 
URL:https://shamesjcc.npgdev.com/event/a-workshop-for-renewal-restorative-yoga-river-stone-mandalas/
ATTACH;FMTTYPE=image/png:https://shamesjcc.npgdev.com/wp-content/uploads/2025/04/stone-mandelas.png
END:VEVENT
BEGIN:VEVENT
DTSTART;TZID=America/New_York:20250515T100000
DTEND;TZID=America/New_York:20250515T110000
DTSTAMP:20260422T183312
CREATED:20250416T135358Z
LAST-MODIFIED:20250506T150114Z
UID:10003543-1747303200-1747306800@shamesjcc.npgdev.com
SUMMARY:Common Ground: "If I am only for myself\, what am I? If I’m not for myself\, who will be for me?"
DESCRIPTION:Balancing community and self as revealed through Jewish and Christian thought. \nThe common understanding that “What’s mine is mine and what’s yours is yours” makes for cordial co-existence. However\, our faith traditions offer meaningful ways of connecting on a deeper level. Join us for a discussion about how we can “expand the pie” or share resources to raise us all up. \nThis is part of the Common Ground: Interfaith Dialogue series. Rabbi Jay Stein\, Greenburgh Hebrew Center\, and Rev. Gareth Evans\, St. Barnabas Episcopal Church of Irvington\, come together for an enlightening conversation to build bridges across real and perceived differences. Your participation as a “fly on the wall” and/or an engaged conversationalist is welcome. These are on the 2nd Thursday of every month. 
URL:https://shamesjcc.npgdev.com/event/common-ground-if-i-am-only-for-myself-what-am-i-if-im-not-for-myself-who-will-be-for-me/
ATTACH;FMTTYPE=image/jpeg:https://shamesjcc.npgdev.com/wp-content/uploads/2025/04/JewishLife-Lectures.jpg
END:VEVENT
BEGIN:VEVENT
DTSTART;TZID=America/New_York:20250516T093000
DTEND;TZID=America/New_York:20250516T103000
DTSTAMP:20260422T183312
CREATED:20250416T140333Z
LAST-MODIFIED:20250416T174233Z
UID:10003546-1747387800-1747391400@shamesjcc.npgdev.com
SUMMARY:Challah and Conversation: "Memorial Day: What happened to the power of memorializing?"
DESCRIPTION:Join with Rabbi Symons as we uncover the ways Jewish wisdom invites us to memorialize those who are no longer with us. Lest you think otherwise\, it is not through “White Sales”. Our conversation will touch on our collective efforts around Memorial Day and our individual efforts around friends and family. \nIn the Challah and Conversation series\, Rabbi Ron Symons\, Shames JCC Sr. Director of Jewish Engagement\, leads interactive guided conversations about life that weave the world around us with general spirituality through Jewish and other  lenses. We begin our time together by lighting candles and end with a little grape juice and challah… all in a very inclusive way. Neighbors of all backgrounds are welcome. These are on the 2nd\, 3rd\, 4th\, and 5th Fridays of each month.
URL:https://shamesjcc.npgdev.com/event/challah-and-conversation-memorial-day-what-happened-to-the-power-of-memorializing/
CATEGORIES:Jewish Life
ATTACH;FMTTYPE=image/jpeg:https://shamesjcc.npgdev.com/wp-content/uploads/2020/03/challah-bread-wood-plate-wooden-table_93289-20.jpg
END:VEVENT
BEGIN:VEVENT
DTSTART;TZID=America/New_York:20250516T180000
DTEND;TZID=America/New_York:20250516T193000
DTSTAMP:20260422T183312
CREATED:20250103T182644Z
LAST-MODIFIED:20250103T182644Z
UID:10003415-1747418400-1747423800@shamesjcc.npgdev.com
SUMMARY:Sensory Swim (All ages) 
DESCRIPTION:Luau theme!  \nCome spend your Friday night with us at our special Sensory-Friendly Swim Night\, exclusively for families with an immediate member with a disability. The pool will be reserved just for you\, providing a sensory-friendly environment where you can enjoy a relaxing swim without the usual distractions. This event is designed to accommodate sensory sensitivities and ensure a comfortable\, enjoyable experience for all participants. \n 
URL:https://shamesjcc.npgdev.com/event/sensory-swim-all-ages-9/
CATEGORIES:Aquatics,Supportive Services
ATTACH;FMTTYPE=image/jpeg:https://shamesjcc.npgdev.com/wp-content/uploads/2022/03/abstract-pool-water-surface-background-with-sun-light-reflection-1-scaled-1.jpg
END:VEVENT
END:VCALENDAR