BEGIN:VCALENDAR
VERSION:2.0
PRODID:-//Shames JCC - ECPv6.1.3//NONSGML v1.0//EN
CALSCALE:GREGORIAN
METHOD:PUBLISH
X-WR-CALNAME:Shames JCC
X-ORIGINAL-URL:https://shamesjcc.npgdev.com
X-WR-CALDESC:Events for Shames JCC
REFRESH-INTERVAL;VALUE=DURATION:PT1H
X-Robots-Tag:noindex
X-PUBLISHED-TTL:PT1H
BEGIN:VTIMEZONE
TZID:America/New_York
BEGIN:DAYLIGHT
TZOFFSETFROM:-0500
TZOFFSETTO:-0400
TZNAME:EDT
DTSTART:20250309T070000
END:DAYLIGHT
BEGIN:STANDARD
TZOFFSETFROM:-0400
TZOFFSETTO:-0500
TZNAME:EST
DTSTART:20251102T060000
END:STANDARD
END:VTIMEZONE
BEGIN:VEVENT
DTSTART;TZID=America/New_York:20250919T093000
DTEND;TZID=America/New_York:20250919T103000
DTSTAMP:20260420T112335
CREATED:20250813T152422Z
LAST-MODIFIED:20250813T152422Z
UID:10003665-1758274200-1758277800@shamesjcc.npgdev.com
SUMMARY:Challah and Conversation: "Poetry for the Season"
DESCRIPTION:FREE for members & non-members \nJoin Rabbi Ron Symons in unpacking the power of High Holiday based poetry on the ways we can reflect on the power of the season in nature and the spirit.
URL:https://shamesjcc.npgdev.com/event/challah-and-conversation-poetry-for-the-season/
ATTACH;FMTTYPE=image/png:https://shamesjcc.npgdev.com/wp-content/uploads/2025/08/poetry.png
END:VEVENT
BEGIN:VEVENT
DTSTART;TZID=America/New_York:20250919T133000
DTEND;TZID=America/New_York:20250919T140000
DTSTAMP:20260420T112335
CREATED:20250808T140843Z
LAST-MODIFIED:20250808T140928Z
UID:10003645-1758288600-1758290400@shamesjcc.npgdev.com
SUMMARY:Salsa for Beginners—Free Demo Class
DESCRIPTION:FREE for members & non-members \nThis is a FREE DEMO where you learn the basic steps of Salsa\, no partner needed. \nThe 7-week session runs from Friday\, September 26–November 7. For more information\, click here.  \n 
URL:https://shamesjcc.npgdev.com/event/salsa-for-beginners-free-demo-class/
ATTACH;FMTTYPE=image/png:https://shamesjcc.npgdev.com/wp-content/uploads/2025/08/salsa-dance.png
END:VEVENT
BEGIN:VEVENT
DTSTART;TZID=America/New_York:20250919T171500
DTEND;TZID=America/New_York:20250919T193000
DTSTAMP:20260420T112335
CREATED:20250825T165653Z
LAST-MODIFIED:20250902T194021Z
UID:10003675-1758302100-1758310200@shamesjcc.npgdev.com
SUMMARY:Shabbat at Shames
DESCRIPTION:Dinner begins at 6:00 pm\nShabbat Mingle—Members: $10; non-members: $15\nShabbat Dinner—Members: $30; non-members: $35\nShabbat Mingle + Dinner—Members: $36; non-members: $50 \nGather with friends to fill your spirit and your belly. We will begin with unstructured time for mingling\, holiday-related snacks\, and opportunities to engage in self-guided Shabbat rituals. Those registered for dinner will stay on for a Shabbat meal and experience guided by Rabbi Ron Symons\, including discussion starters\, blessings\, songs\, and time for engaging conversation. Salmon dinner\, along with a vegetarian option\, will be catered by DeCicco and Sons. \nNeed a ride to or from? Please contact Rena DeLevie at rdelevie@shamesjcc.org by September 15. \n 
URL:https://shamesjcc.npgdev.com/event/shabbat-at-shames/
ATTACH;FMTTYPE=image/png:https://shamesjcc.npgdev.com/wp-content/uploads/2025/08/Shabbat-dinner-photo-for-marketing.png
END:VEVENT
BEGIN:VEVENT
DTSTART;TZID=America/New_York:20250919T180000
DTEND;TZID=America/New_York:20250919T193000
DTSTAMP:20260420T112335
CREATED:20250731T172028Z
LAST-MODIFIED:20250731T172028Z
UID:10003628-1758304800-1758310200@shamesjcc.npgdev.com
SUMMARY:Sensory Swim Night
DESCRIPTION:FREE for members: $20 for non-members  \nCome spend your Friday night with us; our pool will be reserved exclusively for families with an immediate member with a disability. In this sensory-friendly environment\, you can enjoy a relaxing swim without the usual distractions. This event is designed to accommodate sensory sensitivities and ensure a comfortable\, enjoyable experience for all participants. \n 
URL:https://shamesjcc.npgdev.com/event/sensory-swim-night/
CATEGORIES:Aquatics,Supportive Services
ATTACH;FMTTYPE=image/jpeg:https://shamesjcc.npgdev.com/wp-content/uploads/2022/03/abstract-pool-water-surface-background-with-sun-light-reflection-1-scaled-1.jpg
END:VEVENT
END:VCALENDAR