BEGIN:VCALENDAR
VERSION:2.0
PRODID:-//Shames JCC - ECPv6.1.3//NONSGML v1.0//EN
CALSCALE:GREGORIAN
METHOD:PUBLISH
X-ORIGINAL-URL:https://shamesjcc.npgdev.com
X-WR-CALDESC:Events for Shames JCC
REFRESH-INTERVAL;VALUE=DURATION:PT1H
X-Robots-Tag:noindex
X-PUBLISHED-TTL:PT1H
BEGIN:VTIMEZONE
TZID:America/New_York
BEGIN:DAYLIGHT
TZOFFSETFROM:-0500
TZOFFSETTO:-0400
TZNAME:EDT
DTSTART:20250309T070000
END:DAYLIGHT
BEGIN:STANDARD
TZOFFSETFROM:-0400
TZOFFSETTO:-0500
TZNAME:EST
DTSTART:20251102T060000
END:STANDARD
END:VTIMEZONE
BEGIN:VEVENT
DTSTART;TZID=America/New_York:20250616T100000
DTEND;TZID=America/New_York:20250616T113000
DTSTAMP:20260423T225549
CREATED:20250512T193219Z
LAST-MODIFIED:20250609T193616Z
UID:10003569-1750068000-1750073400@shamesjcc.npgdev.com
SUMMARY:Jazz in Claire de Lune
DESCRIPTION:Back by popular demand\, jazz pianist Rocco Dapice will take us on a deep dive into one of the world’s most famous compositions\, “Claire de Lune” by Claude Debussy. Much of what we call “jazz” can actually be discovered in the first two pages of this extraordinary French impressionist piano composition. Though the piece doesn’t rhythmically “swing\,” when Rocco demonstrates at the piano\, you will be astonished to see and hear the forward-thinking melodic and harmonic jazzy elements Debussy used in 1905.
URL:https://shamesjcc.npgdev.com/event/jazz-in-claire-de-lune/
ATTACH;FMTTYPE=image/jpeg:https://shamesjcc.npgdev.com/wp-content/uploads/2025/05/Copy-of-Website-Image-Hero-1.jpg
END:VEVENT
BEGIN:VEVENT
DTSTART;TZID=America/New_York:20250616T110000
DTEND;TZID=America/New_York:20250616T120000
DTSTAMP:20260423T225549
CREATED:20250516T191002Z
LAST-MODIFIED:20250529T173901Z
UID:10003581-1750071600-1750075200@shamesjcc.npgdev.com
SUMMARY:A Cup of Tea? with Rabbi Ron Symons
DESCRIPTION:Discuss with Rabbi Ron Symons what you want the next year of Jewish Life programming to look like at the J. Topics include\, but are not limited to: \n\nWhat would you like to learn?\nHow would you like to help our Rivertowns community through tikkun olam\, repairing the world?\nWith whom would you like to connect across differences?\nWhat day of the week and time is best for you to do any of the above?\n\n 
URL:https://shamesjcc.npgdev.com/event/a-cup-of-tea-with-rabbi-ron-symons-3/
ATTACH;FMTTYPE=image/jpeg:https://shamesjcc.npgdev.com/wp-content/uploads/2025/04/Tea2.jpg
END:VEVENT
END:VCALENDAR