BEGIN:VCALENDAR
VERSION:2.0
PRODID:-//Shames JCC - ECPv6.1.3//NONSGML v1.0//EN
CALSCALE:GREGORIAN
METHOD:PUBLISH
X-ORIGINAL-URL:https://shamesjcc.npgdev.com
X-WR-CALDESC:Events for Shames JCC
REFRESH-INTERVAL;VALUE=DURATION:PT1H
X-Robots-Tag:noindex
X-PUBLISHED-TTL:PT1H
BEGIN:VTIMEZONE
TZID:America/New_York
BEGIN:DAYLIGHT
TZOFFSETFROM:-0500
TZOFFSETTO:-0400
TZNAME:EDT
DTSTART:20250309T070000
END:DAYLIGHT
BEGIN:STANDARD
TZOFFSETFROM:-0400
TZOFFSETTO:-0500
TZNAME:EST
DTSTART:20251102T060000
END:STANDARD
END:VTIMEZONE
BEGIN:VEVENT
DTSTART;TZID=America/New_York:20250529T121500
DTEND;TZID=America/New_York:20250529T130000
DTSTAMP:20260420T035057
CREATED:20250425T181123Z
LAST-MODIFIED:20250507T135737Z
UID:10003562-1748520900-1748523600@shamesjcc.npgdev.com
SUMMARY:Puppy Cuddle with the SPCA (Ages 18+)
DESCRIPTION:Members: $12; non-members: $15  \nIn honor of Mental Health Awareness Month\, come take a paws to relax\, recharge\, and cuddle with adoptable puppies from the SPCA of Westchester! This experience is designed to promote well-being\, reduce stress\, and bring smiles—all through the healing power of animals. \nAll puppies at this event are available for adoption—come for the cuddles\, maybe leave with a new best friend! \n*All funds will be going to support the SPCA of Westchester.
URL:https://shamesjcc.npgdev.com/event/puppy-cuddle-with-the-spca-ages-18/
ATTACH;FMTTYPE=image/png:https://shamesjcc.npgdev.com/wp-content/uploads/2025/04/puppy-cuddle-1.png
END:VEVENT
BEGIN:VEVENT
DTSTART;TZID=America/New_York:20250529T190000
DTEND;TZID=America/New_York:20250529T220000
DTSTAMP:20260420T035057
CREATED:20250305T203248Z
LAST-MODIFIED:20250306T203739Z
UID:10003493-1748545200-1748556000@shamesjcc.npgdev.com
SUMMARY:Light the Way: A Shames JCC Benefit
DESCRIPTION:Join us for a special evening to celebrate the Harold & Elaine Shames JCC on the Hudson. This year\, we are honoring Hillari and Peter Boritz. There will be a seated dinner and musical performance by Adam Pascal\, the original “Roger” from Rent. \nProgram\nCocktail hour reception from 7:00-8:00 pm\nProgram\, musical performance by Adam Pascal\, and seated dinner beginning at 8:00 pm\nCocktail attire suggested \nHost Committee\nLeslie Alkalay\, Robert Clarfeld\, Lisa Cohen\, Andrew Eifler\, Karen Filler\, Daniel Fossner\, Charles B. Friedman\, Allen Halpern\, Steve Kasoff\, Emma Katznelson\, Scott Krady\, Barbara Livenstein\, Nancy Lonky\, Barbara Robertson\, Brad Schwartz\, Dara Seiken\, and Jon Weiss\n \n 
URL:https://shamesjcc.npgdev.com/event/light-the-way-a-shames-jcc-benefit/
ATTACH;FMTTYPE=image/png:https://shamesjcc.npgdev.com/wp-content/uploads/2025/03/Gala-Branding-Email-Header-800-x-500-px-1600-x-600-px-2.png
END:VEVENT
END:VCALENDAR