BEGIN:VCALENDAR
VERSION:2.0
PRODID:-//Shames JCC - ECPv6.1.3//NONSGML v1.0//EN
CALSCALE:GREGORIAN
METHOD:PUBLISH
X-WR-CALNAME:Shames JCC
X-ORIGINAL-URL:https://shamesjcc.npgdev.com
X-WR-CALDESC:Events for Shames JCC
REFRESH-INTERVAL;VALUE=DURATION:PT1H
X-Robots-Tag:noindex
X-PUBLISHED-TTL:PT1H
BEGIN:VTIMEZONE
TZID:America/New_York
BEGIN:DAYLIGHT
TZOFFSETFROM:-0500
TZOFFSETTO:-0400
TZNAME:EDT
DTSTART:20220313T070000
END:DAYLIGHT
BEGIN:STANDARD
TZOFFSETFROM:-0400
TZOFFSETTO:-0500
TZNAME:EST
DTSTART:20221106T060000
END:STANDARD
END:VTIMEZONE
BEGIN:VEVENT
DTSTART;TZID=America/New_York:20220515T150000
DTEND;TZID=America/New_York:20220515T163000
DTSTAMP:20260423T063735
CREATED:20220427T192649Z
LAST-MODIFIED:20220427T192649Z
UID:25136-1652626800-1652632200@shamesjcc.npgdev.com
SUMMARY:Yom Ha'atzmaut Carnival - Northern Westchester
DESCRIPTION:Come celebrate Israel with us while making a difference!\nDuring the event we will take part in OPERATION SUITCASE\nHelp us fill a suitcase for a Ukrainian family by bringing in any of the following: \n* Hygiene products\n* Cosmetics\n* Baseball caps\n* Flip flops\n* Underwear\n* Bed sheets\n* Summer clothes\n* Socks \nFree Admission\nAll ages are welcome! Please note that event guests who are age eligible will need to show proof of Covid-19 Vaccine. \nLocation: Sprout Westchester\, 500 Yorktown Road Croton -On- Hudson NY\, 10520
URL:https://shamesjcc.npgdev.com/event/yom-haatzmaut-carnival-northern-westchester/
CATEGORIES:Special Event
ATTACH;FMTTYPE=image/png:https://shamesjcc.npgdev.com/wp-content/uploads/2022/04/NW-Yom-Haatzmaut-Facebook-Post.png
END:VEVENT
END:VCALENDAR