BEGIN:VCALENDAR
VERSION:2.0
PRODID:-//Shames JCC - ECPv6.1.3//NONSGML v1.0//EN
CALSCALE:GREGORIAN
METHOD:PUBLISH
X-WR-CALNAME:Shames JCC
X-ORIGINAL-URL:https://shamesjcc.npgdev.com
X-WR-CALDESC:Events for Shames JCC
REFRESH-INTERVAL;VALUE=DURATION:PT1H
X-Robots-Tag:noindex
X-PUBLISHED-TTL:PT1H
BEGIN:VTIMEZONE
TZID:America/New_York
BEGIN:DAYLIGHT
TZOFFSETFROM:-0500
TZOFFSETTO:-0400
TZNAME:EDT
DTSTART:20220313T070000
END:DAYLIGHT
BEGIN:STANDARD
TZOFFSETFROM:-0400
TZOFFSETTO:-0500
TZNAME:EST
DTSTART:20221106T060000
END:STANDARD
END:VTIMEZONE
BEGIN:VEVENT
DTSTART;TZID=America/New_York:20221206T183000
DTEND;TZID=America/New_York:20221206T200000
DTSTAMP:20260422T030855
CREATED:20221107T212209Z
LAST-MODIFIED:20221107T212209Z
UID:26525-1670351400-1670356800@shamesjcc.npgdev.com
SUMMARY:Work for Good\, Good for Work: A Broad River Gathering
DESCRIPTION:Work for Good\, Good for Work: A Broad River Gathering\nLearn about the joys and benefits of community service in our work and our lives. \nThe positive impact on the community of our volunteer service work is usually very clear. For the volunteer\, there are many sometimes unexpected benefits from a career and professional experience as well. Tonight’s panelists have all been engaged in community work for many years in a variety of capacities. They will be talking about how their community service experiences have not just enriched their lives and the lives of others but also benefited their businesses and careers. We invite you to join us in the conversation – bring your questions and share your experiences. \nThis event is facilitated by Laurie Hirsch Schulz with guests Elissa Hecker and Joanne Taylor.
URL:https://shamesjcc.npgdev.com/event/work-for-good-good-for-work-a-broad-river-gathering/
ATTACH;FMTTYPE=image/jpeg:https://shamesjcc.npgdev.com/wp-content/uploads/2022/01/broadriver-4.jpeg
END:VEVENT
END:VCALENDAR