BEGIN:VCALENDAR
VERSION:2.0
PRODID:-//Shames JCC - ECPv6.1.3//NONSGML v1.0//EN
CALSCALE:GREGORIAN
METHOD:PUBLISH
X-WR-CALNAME:Shames JCC
X-ORIGINAL-URL:https://shamesjcc.npgdev.com
X-WR-CALDESC:Events for Shames JCC
REFRESH-INTERVAL;VALUE=DURATION:PT1H
X-Robots-Tag:noindex
X-PUBLISHED-TTL:PT1H
BEGIN:VTIMEZONE
TZID:America/New_York
BEGIN:DAYLIGHT
TZOFFSETFROM:-0500
TZOFFSETTO:-0400
TZNAME:EDT
DTSTART:20240310T070000
END:DAYLIGHT
BEGIN:STANDARD
TZOFFSETFROM:-0400
TZOFFSETTO:-0500
TZNAME:EST
DTSTART:20241103T060000
END:STANDARD
END:VTIMEZONE
BEGIN:VEVENT
DTSTART;TZID=America/New_York:20240131T113000
DTEND;TZID=America/New_York:20240131T130000
DTSTAMP:20260422T074333
CREATED:20240105T165802Z
LAST-MODIFIED:20240108T100842Z
UID:29706-1706700600-1706706000@shamesjcc.npgdev.com
SUMMARY:Verve Book Club: Nightcrawling by Leila Mottley
DESCRIPTION:Based on a true crime in 2015\, Leila Mottley’s debut novel\, Nightcrawling\, gives voice to 17-year-old Kiara Johnson\, who\, after her father’s death and mother’s detention in a rehab facility\, becomes a sex worker to pay for rent hikes. She also needs to look after her disillusioned older brother and a nine-year-old left behind by a neighbor. Mottley outlines the perilous economy of poverty in America in a dramatic account that gives tangible form to what millions of invisible people endure. BEST BOOK OF THE YEAR: The New Yorker\, The Washington Post\, Los Angeles Times\, San Francisco Chronicle\, TIME\, GOODREADS
URL:https://shamesjcc.npgdev.com/event/verve-book-club-nightcrawling-by-leila-mottley/
CATEGORIES:Adult Enrichment
ATTACH;FMTTYPE=image/jpeg:https://shamesjcc.npgdev.com/wp-content/uploads/2018/02/books-book-pages-read-literature-159866.jpeg
END:VEVENT
END:VCALENDAR