BEGIN:VCALENDAR
VERSION:2.0
PRODID:-//Shames JCC - ECPv6.1.3//NONSGML v1.0//EN
CALSCALE:GREGORIAN
METHOD:PUBLISH
X-WR-CALNAME:Shames JCC
X-ORIGINAL-URL:https://shamesjcc.npgdev.com
X-WR-CALDESC:Events for Shames JCC
REFRESH-INTERVAL;VALUE=DURATION:PT1H
X-Robots-Tag:noindex
X-PUBLISHED-TTL:PT1H
BEGIN:VTIMEZONE
TZID:America/New_York
BEGIN:DAYLIGHT
TZOFFSETFROM:-0500
TZOFFSETTO:-0400
TZNAME:EDT
DTSTART:20230312T070000
END:DAYLIGHT
BEGIN:STANDARD
TZOFFSETFROM:-0400
TZOFFSETTO:-0500
TZNAME:EST
DTSTART:20231105T060000
END:STANDARD
END:VTIMEZONE
BEGIN:VEVENT
DTSTART;TZID=America/New_York:20230731T093000
DTEND;TZID=America/New_York:20230731T150000
DTSTAMP:20260419T233854
CREATED:20230703T192027Z
LAST-MODIFIED:20230726T123019Z
UID:28305-1690795800-1690815600@shamesjcc.npgdev.com
SUMMARY:Tour of “The Sassoons” at the Jewish Museum
DESCRIPTION:Join us for a group outing to the Jewish Museum to see “The Sassoons\,” a sweeping exhibit about one of the grandest families of the 19th century\, often called the “Rothschilds of the East.” The exhibit is a panoramic survey of four generations of traders\, socialites\, soldiers\, and sybarites. Their lives and possessions map a century of forced migration\, colonial expansion\, and absorption into high society. \nYour day will begin with a private\, 1-hour tour of the exhibit before having ample time to explore the museum on your own. We will also have time for lunch (BYO or buy locally). \nYour ticket includes museum admission\, a private tour\, and comfortable transportation to and from the Shames JCC. Space is limited!
URL:https://shamesjcc.npgdev.com/event/tour-of-the-sassoons-at-the-jewish-museum/
CATEGORIES:Adult Enrichment
ATTACH;FMTTYPE=image/jpeg:https://shamesjcc.npgdev.com/wp-content/uploads/2023/07/Sassoon1.jpg
END:VEVENT
END:VCALENDAR