BEGIN:VCALENDAR
VERSION:2.0
PRODID:-//Shames JCC - ECPv6.1.3//NONSGML v1.0//EN
CALSCALE:GREGORIAN
METHOD:PUBLISH
X-WR-CALNAME:Shames JCC
X-ORIGINAL-URL:https://shamesjcc.npgdev.com
X-WR-CALDESC:Events for Shames JCC
REFRESH-INTERVAL;VALUE=DURATION:PT1H
X-Robots-Tag:noindex
X-PUBLISHED-TTL:PT1H
BEGIN:VTIMEZONE
TZID:America/New_York
BEGIN:DAYLIGHT
TZOFFSETFROM:-0500
TZOFFSETTO:-0400
TZNAME:EDT
DTSTART:20250309T070000
END:DAYLIGHT
BEGIN:STANDARD
TZOFFSETFROM:-0400
TZOFFSETTO:-0500
TZNAME:EST
DTSTART:20251102T060000
END:STANDARD
END:VTIMEZONE
BEGIN:VEVENT
DTSTART;TZID=America/New_York:20250312T170000
DTEND;TZID=America/New_York:20250312T180000
DTSTAMP:20260421T080354
CREATED:20250211T150534Z
LAST-MODIFIED:20250228T151739Z
UID:32371-1741798800-1741802400@shamesjcc.npgdev.com
SUMMARY:The Especially Everyone Songwriting Workshop Series
DESCRIPTION:Wednesdays\, March 12-April 30; 5:00-6:00 pm\nAges 18+ \nMembers: $400; non-members: $450 \nThis workshop is designed for adults of all abilities who love music and want to create\, collaborate\, and connect. Over the course of eight weeks\, participants will write an original song together\, culminating in a recording and performance opportunity  at The Especially Everyone Experience on Sunday\, May 4 at the Shames JCC.
URL:https://shamesjcc.npgdev.com/event/the-especially-everyone-music-program/
ATTACH;FMTTYPE=image/webp:https://shamesjcc.npgdev.com/wp-content/uploads/2024/10/especiallyeveryoone.webp
END:VEVENT
END:VCALENDAR