BEGIN:VCALENDAR
VERSION:2.0
PRODID:-//Shames JCC - ECPv6.1.3//NONSGML v1.0//EN
CALSCALE:GREGORIAN
METHOD:PUBLISH
X-WR-CALNAME:Shames JCC
X-ORIGINAL-URL:https://shamesjcc.npgdev.com
X-WR-CALDESC:Events for Shames JCC
REFRESH-INTERVAL;VALUE=DURATION:PT1H
X-Robots-Tag:noindex
X-PUBLISHED-TTL:PT1H
BEGIN:VTIMEZONE
TZID:America/New_York
BEGIN:DAYLIGHT
TZOFFSETFROM:-0500
TZOFFSETTO:-0400
TZNAME:EDT
DTSTART:20230312T070000
END:DAYLIGHT
BEGIN:STANDARD
TZOFFSETFROM:-0400
TZOFFSETTO:-0500
TZNAME:EST
DTSTART:20231105T060000
END:STANDARD
END:VTIMEZONE
BEGIN:VEVENT
DTSTART;TZID=America/New_York:20230625T120000
DTEND;TZID=America/New_York:20230625T150000
DTSTAMP:20260424T122519
CREATED:20230524T194837Z
LAST-MODIFIED:20230606T145627Z
UID:28112-1687694400-1687705200@shamesjcc.npgdev.com
SUMMARY:Survey Says: Mingle!
DESCRIPTION:Join us for a special event for adults over 50!\nAre you an adult 50+ looking to meet new people? Survey says….join us at Via Garibaldi in White Plains* for an afternoon of game show fun\, lunch\, wine\, and mingling! This is a great way to expand your social circle in a low-pressure and entertaining environment. \nThe program will begin with a delicious buffet that includes appetizers\, mains\, dessert\, wine\, and more. After the meal\, the fun begins! Free valet parking is included\, and free transportation to and from the Shames JCC or JCC-Midwestchester is also available. \n*Free valet parking is included\, and free transportation to and from the Shames JCC or JCC-Midwestchester is also available.
URL:https://shamesjcc.npgdev.com/event/survey-says-and-mingle/
CATEGORIES:Adult Enrichment,Special Event
ATTACH;FMTTYPE=image/jpeg:https://shamesjcc.npgdev.com/wp-content/uploads/2023/05/Survey-Says-blue.jpg
END:VEVENT
END:VCALENDAR