BEGIN:VCALENDAR
VERSION:2.0
PRODID:-//Shames JCC - ECPv6.1.3//NONSGML v1.0//EN
CALSCALE:GREGORIAN
METHOD:PUBLISH
X-WR-CALNAME:Shames JCC
X-ORIGINAL-URL:https://shamesjcc.npgdev.com
X-WR-CALDESC:Events for Shames JCC
REFRESH-INTERVAL;VALUE=DURATION:PT1H
X-Robots-Tag:noindex
X-PUBLISHED-TTL:PT1H
BEGIN:VTIMEZONE
TZID:America/New_York
BEGIN:DAYLIGHT
TZOFFSETFROM:-0500
TZOFFSETTO:-0400
TZNAME:EDT
DTSTART:20240310T070000
END:DAYLIGHT
BEGIN:STANDARD
TZOFFSETFROM:-0400
TZOFFSETTO:-0500
TZNAME:EST
DTSTART:20241103T060000
END:STANDARD
END:VTIMEZONE
BEGIN:VEVENT
DTSTART;TZID=America/New_York:20240606T190000
DTEND;TZID=America/New_York:20240606T210000
DTSTAMP:20260424T012633
CREATED:20240509T205522Z
LAST-MODIFIED:20240513T152643Z
UID:30707-1717700400-1717707600@shamesjcc.npgdev.com
SUMMARY:Spring Graze Board Making
DESCRIPTION:Join us for an interactive culinary experience led by talented cooking instructor\, Kate Sonders Solomon. Learn the art of crafting a delicious spring graze board\, socialize\, and celebrate Shavuot as you indulge in the joy of food and community! \nKate is a cooking instructor living in Hastings-on-Hudson. She provides a relaxed\, hands-on cooking experience for adults and children. Kate aims to foster creativity and connection in the kitchen and empower children\, home cooks\, and corporate teams. \nAddress is in the Somers area\, and will be disclosed upon registration
URL:https://shamesjcc.npgdev.com/event/spring-graze-board-making/
ATTACH;FMTTYPE=image/jpeg:https://shamesjcc.npgdev.com/wp-content/uploads/2024/05/picture-of-graze-board.jpg
END:VEVENT
END:VCALENDAR