BEGIN:VCALENDAR
VERSION:2.0
PRODID:-//Shames JCC - ECPv6.1.3//NONSGML v1.0//EN
CALSCALE:GREGORIAN
METHOD:PUBLISH
X-WR-CALNAME:Shames JCC
X-ORIGINAL-URL:https://shamesjcc.npgdev.com
X-WR-CALDESC:Events for Shames JCC
REFRESH-INTERVAL;VALUE=DURATION:PT1H
X-Robots-Tag:noindex
X-PUBLISHED-TTL:PT1H
BEGIN:VTIMEZONE
TZID:America/New_York
BEGIN:DAYLIGHT
TZOFFSETFROM:-0500
TZOFFSETTO:-0400
TZNAME:EDT
DTSTART:20220313T070000
END:DAYLIGHT
BEGIN:STANDARD
TZOFFSETFROM:-0400
TZOFFSETTO:-0500
TZNAME:EST
DTSTART:20221106T060000
END:STANDARD
END:VTIMEZONE
BEGIN:VEVENT
DTSTART;TZID=America/New_York:20220818T093000
DTEND;TZID=America/New_York:20220818T103000
DTSTAMP:20260419T134031
CREATED:20220726T170115Z
LAST-MODIFIED:20220726T170115Z
UID:25871-1660815000-1660818600@shamesjcc.npgdev.com
SUMMARY:Special Pop-Up Class: IGNITE by Breakthrough Fit Co
DESCRIPTION:Thursday\, August 18\, 9:30–10:30 am FREE\nBreakthrough Fit Co’s mission is to create equal access to health and fitness for the special needs community. We are thrilled to announce that they will be bringing their IGNITE program to the JCC this fall. IGNITE offers progressive\, fun\, and adaptive fitness programs to members of the Westchester special needs community\, ages 12 through adulthood. This program serves a broad spectrum of disabilities and aims to empower each individual through providing positive exercise experiences and enhancing social skills. Please note\, an intake is required.
URL:https://shamesjcc.npgdev.com/event/special-pop-up-class-ignite-by-breakthrough-fit-co/
ATTACH;FMTTYPE=image/jpeg:https://shamesjcc.npgdev.com/wp-content/uploads/2022/07/home-gym-1.jpg
END:VEVENT
END:VCALENDAR