BEGIN:VCALENDAR
VERSION:2.0
PRODID:-//Shames JCC - ECPv6.1.3//NONSGML v1.0//EN
CALSCALE:GREGORIAN
METHOD:PUBLISH
X-WR-CALNAME:Shames JCC
X-ORIGINAL-URL:https://shamesjcc.npgdev.com
X-WR-CALDESC:Events for Shames JCC
REFRESH-INTERVAL;VALUE=DURATION:PT1H
X-Robots-Tag:noindex
X-PUBLISHED-TTL:PT1H
BEGIN:VTIMEZONE
TZID:America/New_York
BEGIN:DAYLIGHT
TZOFFSETFROM:-0500
TZOFFSETTO:-0400
TZNAME:EDT
DTSTART:20240310T070000
END:DAYLIGHT
BEGIN:STANDARD
TZOFFSETFROM:-0400
TZOFFSETTO:-0500
TZNAME:EST
DTSTART:20241103T060000
END:STANDARD
END:VTIMEZONE
BEGIN:VEVENT
DTSTART;TZID=America/New_York:20241107T180000
DTEND;TZID=America/New_York:20241107T203000
DTSTAMP:20260419T134758
CREATED:20241002T162243Z
LAST-MODIFIED:20241008T135204Z
UID:31526-1731002400-1731011400@shamesjcc.npgdev.com
SUMMARY:Reel to Real Film Series: The Miracle Worker (Dir. Arthur Penn)
DESCRIPTION:Members: $10; non-members: $18; includes light refreshments  \nJoin us for our next Reel to Real in which we have some snacks\, watch a movie together\, then explore the cinematic themes and how they play out in real life. This month’s selection is The Miracle Worker (1962). \nIn this film we witness the Keller family centered around the blind and deaf daughter\, Helen\, played by Oscar-winner\, Patty Duke. Her father offers her every kind of help that he can afford\, while her mother allows her everything she wants\, expecting nothing of Helen. Then Annie (Anne Bancroft) arrives\, who understands that unless Helen really learns what language is\, and how to use it to relate to others\, she will be doomed to isolation. \nThis Reel to Real presentation will explore the human condition through the lens of the parent-child relationship (our first relationship) and examine ideas of containment\, trust\, unconditional love and the struggle we all face\, like Helen\, to break through walls of silence and darkness towards connection. \nAbout the presenter: Scott Bloom has spent his 33-year career at the intersection of mental health\, schools\, and communities. He was the founding director of School Mental Health Services for the New York City Department of Education\, where he built a city-wide system of mental health services and resources in over 1800 city schools to better serve the needs of 1.2 million students and families. Mr. Bloom has certification as a psychotherapist and a private practice and supervision in New York City. 
URL:https://shamesjcc.npgdev.com/event/reel-to-real-film-series-the-miracle-worker-dir-arthur-penn/
ATTACH;FMTTYPE=image/jpeg:https://shamesjcc.npgdev.com/wp-content/uploads/2024/10/miracle-worker.jpg
END:VEVENT
END:VCALENDAR