BEGIN:VCALENDAR
VERSION:2.0
PRODID:-//Shames JCC - ECPv6.1.3//NONSGML v1.0//EN
CALSCALE:GREGORIAN
METHOD:PUBLISH
X-WR-CALNAME:Shames JCC
X-ORIGINAL-URL:https://shamesjcc.npgdev.com
X-WR-CALDESC:Events for Shames JCC
REFRESH-INTERVAL;VALUE=DURATION:PT1H
X-Robots-Tag:noindex
X-PUBLISHED-TTL:PT1H
BEGIN:VTIMEZONE
TZID:America/New_York
BEGIN:DAYLIGHT
TZOFFSETFROM:-0500
TZOFFSETTO:-0400
TZNAME:EDT
DTSTART:20250309T070000
END:DAYLIGHT
BEGIN:STANDARD
TZOFFSETFROM:-0400
TZOFFSETTO:-0500
TZNAME:EST
DTSTART:20251102T060000
END:STANDARD
END:VTIMEZONE
BEGIN:VEVENT
DTSTART;TZID=America/New_York:20250922T100000
DTEND;TZID=America/New_York:20250922T113000
DTSTAMP:20260422T193723
CREATED:20250725T134347Z
LAST-MODIFIED:20250725T134347Z
UID:33631-1758535200-1758540600@shamesjcc.npgdev.com
SUMMARY:Protect Yourself from Scams
DESCRIPTION:FREE for members & non-members \nScams don’t only happen on the internet and over the phone. With $8 billion lost to fraud every year\, it’s important to protect yourself and your families with up-to-date information. In this talk\, you’ll learn what the latest scams are\, how AI is making scams harder to identify\, and how to vet potential contractors or other vendors you interact with in order to make good decisions and stay safe. \nAbout the presenter: Roberta S. Goodman\, Esq. is a senior staff attorney in the Elder Justice unit with the Pace Women’s Justice Center in White Plains. She represents\, educates\, and advocates in a broad range of matters\, including financial exploitation\, securing family court orders of protection for incidents of domestic disputes\, voluntary guardianships\, advance planning\, and negotiating legal resolutions involving abusive living situations.
URL:https://shamesjcc.npgdev.com/event/protect-yourself-from-scams/
ATTACH;FMTTYPE=image/png:https://shamesjcc.npgdev.com/wp-content/uploads/2025/07/scam.png
END:VEVENT
END:VCALENDAR