BEGIN:VCALENDAR
VERSION:2.0
PRODID:-//Shames JCC - ECPv6.1.3//NONSGML v1.0//EN
CALSCALE:GREGORIAN
METHOD:PUBLISH
X-WR-CALNAME:Shames JCC
X-ORIGINAL-URL:https://shamesjcc.npgdev.com
X-WR-CALDESC:Events for Shames JCC
REFRESH-INTERVAL;VALUE=DURATION:PT1H
X-Robots-Tag:noindex
X-PUBLISHED-TTL:PT1H
BEGIN:VTIMEZONE
TZID:America/New_York
BEGIN:DAYLIGHT
TZOFFSETFROM:-0500
TZOFFSETTO:-0400
TZNAME:EDT
DTSTART:20240310T070000
END:DAYLIGHT
BEGIN:STANDARD
TZOFFSETFROM:-0400
TZOFFSETTO:-0500
TZNAME:EST
DTSTART:20241103T060000
END:STANDARD
END:VTIMEZONE
BEGIN:VEVENT
DTSTART;TZID=America/New_York:20240117T123000
DTEND;TZID=America/New_York:20240117T140000
DTSTAMP:20260419T143213
CREATED:20240103T185825Z
LAST-MODIFIED:20240103T185825Z
UID:29680-1705494600-1705500000@shamesjcc.npgdev.com
SUMMARY:Out to Lunch with the JCC: O Mandarin Chinese restaurant
DESCRIPTION:Join your fellow foodies for our next lunch outing to the beloved O Mandarin Restaurant in Hartsdale! Your meal includes your choice of soup\, lunch entree\, plus tea or coffee. O Mandarin is known for its freshly prepared and creative Chinese cuisine served in an elegant dining room. \nThe menu is suitable for vegetarians and meat-eaters alike. The cost is $20 per person (to be brought in cash)\, and includes all taxes and gratuity.  Bring your appetite and a friend\, or come make new ones! These events are always lots of fun and are open to all. \n$20 cash covers all food\, tax\, and tip \nNOTE: We will be meeting at O Mandarin\, 361 N Central Ave in Hartsdale\, NY 10530\, located in the same strip mall as H Mart. There is plenty of parking available. If you need a ride to the restaurant from the JCC or have room in your car for others\, please email cjacobs@shamesjcc.org when you register. \n 
URL:https://shamesjcc.npgdev.com/event/out-to-lunch-with-the-jcc-o-mandarin-chinese-restaurant/
CATEGORIES:Adult Enrichment
ATTACH;FMTTYPE=image/jpeg:https://shamesjcc.npgdev.com/wp-content/uploads/2024/01/IMG_4160-Carly-Jacobs.jpg
END:VEVENT
END:VCALENDAR