BEGIN:VCALENDAR
VERSION:2.0
PRODID:-//Shames JCC - ECPv6.1.3//NONSGML v1.0//EN
CALSCALE:GREGORIAN
METHOD:PUBLISH
X-WR-CALNAME:Shames JCC
X-ORIGINAL-URL:https://shamesjcc.npgdev.com
X-WR-CALDESC:Events for Shames JCC
REFRESH-INTERVAL;VALUE=DURATION:PT1H
X-Robots-Tag:noindex
X-PUBLISHED-TTL:PT1H
BEGIN:VTIMEZONE
TZID:America/New_York
BEGIN:DAYLIGHT
TZOFFSETFROM:-0500
TZOFFSETTO:-0400
TZNAME:EDT
DTSTART:20230312T070000
END:DAYLIGHT
BEGIN:STANDARD
TZOFFSETFROM:-0400
TZOFFSETTO:-0500
TZNAME:EST
DTSTART:20231105T060000
END:STANDARD
END:VTIMEZONE
BEGIN:VEVENT
DTSTART;TZID=America/New_York:20231221T123000
DTEND;TZID=America/New_York:20231221T140000
DTSTAMP:20260419T134243
CREATED:20231122T144358Z
LAST-MODIFIED:20231122T144928Z
UID:29432-1703161800-1703167200@shamesjcc.npgdev.com
SUMMARY:Out to Lunch with the JCC: Medi Bistro Persian Cuisine
DESCRIPTION:$30 cash per person (taxes\, gratuity\, and parking validation included) \nJoin your fellow foodies for a delicious holiday lunch! Medi Bistro specializes in Persian and Mediterranean food served family style so everyone gets to share. Led by noted tri-state restaurateur Par Shakiban\, Medi Bistro offers a sophisticated but accessible experience in a beautiful atmosphere.  Your lunch will include a salad\, eggplant appetizer\, chicken and beef kabobs\, and rice. \nPlease bring your appetite and $30 cash to pay at the restaurant; this covers all food costs\, tax\, and tip\, and parking validation! \nNOTE ON TRANSPORTATION: This event will be taking place at Medi Bistro\, 50 Main Street\, White Plains\, NY 10606. Parking is metered but the restaurant will validate your ticket. If you need a ride to the restaurant from the JCC or have room in your car for others\, please email cjacobs@shamesjcc.org when you register. \nLocation: 50 Main Street\, White Plains\, NY 10606
URL:https://shamesjcc.npgdev.com/event/out-to-lunch-with-the-jcc-medi-bistro-persian-cuisine/
ATTACH;FMTTYPE=image/jpeg:https://shamesjcc.npgdev.com/wp-content/uploads/2023/11/Medi-bistro.jpg
END:VEVENT
END:VCALENDAR