BEGIN:VCALENDAR
VERSION:2.0
PRODID:-//Shames JCC - ECPv6.1.3//NONSGML v1.0//EN
CALSCALE:GREGORIAN
METHOD:PUBLISH
X-WR-CALNAME:Shames JCC
X-ORIGINAL-URL:https://shamesjcc.npgdev.com
X-WR-CALDESC:Events for Shames JCC
REFRESH-INTERVAL;VALUE=DURATION:PT1H
X-Robots-Tag:noindex
X-PUBLISHED-TTL:PT1H
BEGIN:VTIMEZONE
TZID:America/New_York
BEGIN:DAYLIGHT
TZOFFSETFROM:-0500
TZOFFSETTO:-0400
TZNAME:EDT
DTSTART:20240310T070000
END:DAYLIGHT
BEGIN:STANDARD
TZOFFSETFROM:-0400
TZOFFSETTO:-0500
TZNAME:EST
DTSTART:20241103T060000
END:STANDARD
END:VTIMEZONE
BEGIN:VEVENT
DTSTART;TZID=America/New_York:20240115T093000
DTEND;TZID=America/New_York:20240115T143000
DTSTAMP:20260420T113146
CREATED:20231220T160442Z
LAST-MODIFIED:20231221T192832Z
UID:29654-1705311000-1705329000@shamesjcc.npgdev.com
SUMMARY:MLK Day of Service
DESCRIPTION:There is strength in numbers and power in shared purpose. \nThis MLK Day\, January 15\, 2024\, the Shames JCC is joining UJA and a variety of partners from across New York to work together toward a stronger future for all. \nJoin us at the J for meaningful volunteer opportunities that will make a difference in the lives of individuals\, our community\, and the greater community to which we all belong. Families can decorate and pack “Blizzard Boxes”\, which contain the makings of a complete meal\, for food pantries around Westchester and the Bronx. Adults will work with our Generation Forward volunteers to sort medical supplies for the Afya Foundation to distribute to crisis settings around the world. \nWe have opportunities for all ages\, in 90-minute shifts throughout the day. \n  \n 
URL:https://shamesjcc.npgdev.com/event/mlk-day-of-service-2/
ATTACH;FMTTYPE=image/png:https://shamesjcc.npgdev.com/wp-content/uploads/2023/12/MLK-DAY-banner-2024_v3-alt-a39-Tammy-Burgus.png
END:VEVENT
END:VCALENDAR