BEGIN:VCALENDAR
VERSION:2.0
PRODID:-//Shames JCC - ECPv6.1.3//NONSGML v1.0//EN
CALSCALE:GREGORIAN
METHOD:PUBLISH
X-WR-CALNAME:Shames JCC
X-ORIGINAL-URL:https://shamesjcc.npgdev.com
X-WR-CALDESC:Events for Shames JCC
REFRESH-INTERVAL;VALUE=DURATION:PT1H
X-Robots-Tag:noindex
X-PUBLISHED-TTL:PT1H
BEGIN:VTIMEZONE
TZID:America/New_York
BEGIN:DAYLIGHT
TZOFFSETFROM:-0500
TZOFFSETTO:-0400
TZNAME:EDT
DTSTART:20240310T070000
END:DAYLIGHT
BEGIN:STANDARD
TZOFFSETFROM:-0400
TZOFFSETTO:-0500
TZNAME:EST
DTSTART:20241103T060000
END:STANDARD
END:VTIMEZONE
BEGIN:VEVENT
DTSTART;TZID=America/New_York:20241017T123000
DTEND;TZID=America/New_York:20241017T140000
DTSTAMP:20260421T084717
CREATED:20241009T200501Z
LAST-MODIFIED:20241009T201310Z
UID:31566-1729168200-1729173600@shamesjcc.npgdev.com
SUMMARY:Get-Out-the-Vote Postcarding
DESCRIPTION:Write postcards from MomsRising and other nonpartisan organizations to help encourage voters to exercise their democratic right on November 5!
URL:https://shamesjcc.npgdev.com/event/get-out-the-vote-postcarding/
ATTACH;FMTTYPE=image/png:https://shamesjcc.npgdev.com/wp-content/uploads/2024/10/vote.png
END:VEVENT
END:VCALENDAR