BEGIN:VCALENDAR
VERSION:2.0
PRODID:-//Shames JCC - ECPv6.1.3//NONSGML v1.0//EN
CALSCALE:GREGORIAN
METHOD:PUBLISH
X-WR-CALNAME:Shames JCC
X-ORIGINAL-URL:https://shamesjcc.npgdev.com
X-WR-CALDESC:Events for Shames JCC
REFRESH-INTERVAL;VALUE=DURATION:PT1H
X-Robots-Tag:noindex
X-PUBLISHED-TTL:PT1H
BEGIN:VTIMEZONE
TZID:America/New_York
BEGIN:DAYLIGHT
TZOFFSETFROM:-0500
TZOFFSETTO:-0400
TZNAME:EDT
DTSTART:20230312T070000
END:DAYLIGHT
BEGIN:STANDARD
TZOFFSETFROM:-0400
TZOFFSETTO:-0500
TZNAME:EST
DTSTART:20231105T060000
END:STANDARD
END:VTIMEZONE
BEGIN:VEVENT
DTSTART;TZID=America/New_York:20230712T183000
DTEND;TZID=America/New_York:20230712T200000
DTSTAMP:20260423T223058
CREATED:20230614T152040Z
LAST-MODIFIED:20230614T172848Z
UID:28209-1689186600-1689192000@shamesjcc.npgdev.com
SUMMARY:Foreign Affairs Lecture Series: US-China Relations
DESCRIPTION:Is the US on a collision course with China? Do we really need each other? Can we ever return to the era of free and open trade\, which enriched both advanced and developing countries and sharply reduced global poverty? Join us as we consider these questions and the prospects for a more productive and less tense US-China economic and political relationship. \nJoin international economist David Cheney for a lecture and discussion on these questions and the prospects for a more productive and less tense US-China economic and political relationship.
URL:https://shamesjcc.npgdev.com/event/foreign-affairs-lecture-series-us-china-relations/
CATEGORIES:Adult Enrichment
ATTACH;FMTTYPE=image/jpeg:https://shamesjcc.npgdev.com/wp-content/uploads/2023/06/flag-usa-china-cracked-concrete-wall-background-concept-conflicts-two-superpowers-scaled-e1689724201690.jpg
END:VEVENT
END:VCALENDAR