BEGIN:VCALENDAR
VERSION:2.0
PRODID:-//Shames JCC - ECPv6.1.3//NONSGML v1.0//EN
CALSCALE:GREGORIAN
METHOD:PUBLISH
X-WR-CALNAME:Shames JCC
X-ORIGINAL-URL:https://shamesjcc.npgdev.com
X-WR-CALDESC:Events for Shames JCC
REFRESH-INTERVAL;VALUE=DURATION:PT1H
X-Robots-Tag:noindex
X-PUBLISHED-TTL:PT1H
BEGIN:VTIMEZONE
TZID:America/New_York
BEGIN:DAYLIGHT
TZOFFSETFROM:-0500
TZOFFSETTO:-0400
TZNAME:EDT
DTSTART:20240310T070000
END:DAYLIGHT
BEGIN:STANDARD
TZOFFSETFROM:-0400
TZOFFSETTO:-0500
TZNAME:EST
DTSTART:20241103T060000
END:STANDARD
END:VTIMEZONE
BEGIN:VEVENT
DTSTART;TZID=America/New_York:20240110T190000
DTEND;TZID=America/New_York:20240110T201500
DTSTAMP:20260423T061242
CREATED:20231212T165232Z
LAST-MODIFIED:20231213T184623Z
UID:29600-1704913200-1704917700@shamesjcc.npgdev.com
SUMMARY:Foreign Affairs Discussion Group: Can the IMF Still Rescue the World Economy?
DESCRIPTION:The IMF is perhaps the most important and least understood global economic institution in the world today. But it has lost some of its mojo since the backlash against globalization started a few years ago—a globalization that it helped encourage through its free-market policy prescriptions. How relevant is it in a more shock-prone world that is increasingly nationalistic\, protectionist\, and anti-democratic? And what is it doing to address today’s serious global crises? \n 
URL:https://shamesjcc.npgdev.com/event/foreign-affairs-discussion-group-how-can-the-imf-uplift-the-global-economy/
ATTACH;FMTTYPE=image/png:https://shamesjcc.npgdev.com/wp-content/uploads/2023/12/International_Monetary_Fund_logo.svg_.png
END:VEVENT
END:VCALENDAR