BEGIN:VCALENDAR
VERSION:2.0
PRODID:-//Shames JCC - ECPv6.1.3//NONSGML v1.0//EN
CALSCALE:GREGORIAN
METHOD:PUBLISH
X-WR-CALNAME:Shames JCC
X-ORIGINAL-URL:https://shamesjcc.npgdev.com
X-WR-CALDESC:Events for Shames JCC
REFRESH-INTERVAL;VALUE=DURATION:PT1H
X-Robots-Tag:noindex
X-PUBLISHED-TTL:PT1H
BEGIN:VTIMEZONE
TZID:America/New_York
BEGIN:DAYLIGHT
TZOFFSETFROM:-0500
TZOFFSETTO:-0400
TZNAME:EDT
DTSTART:20220313T070000
END:DAYLIGHT
BEGIN:STANDARD
TZOFFSETFROM:-0400
TZOFFSETTO:-0500
TZNAME:EST
DTSTART:20221106T060000
END:STANDARD
END:VTIMEZONE
BEGIN:VEVENT
DTSTART;TZID=America/New_York:20220612T120000
DTEND;TZID=America/New_York:20220612T170000
DTSTAMP:20260420T070144
CREATED:20220606T153856Z
LAST-MODIFIED:20220606T154212Z
UID:25458-1655035200-1655053200@shamesjcc.npgdev.com
SUMMARY:Fitness and Italian Cuisine
DESCRIPTION:Day Of Fitness And Italian Cuisine At The JCC \nJoin us for an active and fun- filled day! \nExercise in the fitness room with a trainer\nPrepare and enjoy some Italian dishes with friends\nSports\, games\, movement activities and great food \nTo Register:\nhttp://www.sparcinc.org\nRespite:$60\nNon-Respite:$120\nJCC Members receive a 15% Discount
URL:https://shamesjcc.npgdev.com/event/fitness-and-italian-cuisine/
ATTACH;FMTTYPE=image/png:https://shamesjcc.npgdev.com/wp-content/uploads/2022/06/SPARC-inc.png
END:VEVENT
END:VCALENDAR