BEGIN:VCALENDAR
VERSION:2.0
PRODID:-//Shames JCC - ECPv6.1.3//NONSGML v1.0//EN
CALSCALE:GREGORIAN
METHOD:PUBLISH
X-WR-CALNAME:Shames JCC
X-ORIGINAL-URL:https://shamesjcc.npgdev.com
X-WR-CALDESC:Events for Shames JCC
REFRESH-INTERVAL;VALUE=DURATION:PT1H
X-Robots-Tag:noindex
X-PUBLISHED-TTL:PT1H
BEGIN:VTIMEZONE
TZID:America/New_York
BEGIN:DAYLIGHT
TZOFFSETFROM:-0500
TZOFFSETTO:-0400
TZNAME:EDT
DTSTART:20240310T070000
END:DAYLIGHT
BEGIN:STANDARD
TZOFFSETFROM:-0400
TZOFFSETTO:-0500
TZNAME:EST
DTSTART:20241103T060000
END:STANDARD
END:VTIMEZONE
BEGIN:VEVENT
DTSTART;TZID=America/New_York:20240717T113000
DTEND;TZID=America/New_York:20240717T133000
DTSTAMP:20260419T133003
CREATED:20240613T202730Z
LAST-MODIFIED:20240613T202730Z
UID:30945-1721215800-1721223000@shamesjcc.npgdev.com
SUMMARY:Film Screening: “Trezoros: The Lost Greek Jews of Kastoria” (Dir. Larry Russo)
DESCRIPTION:Using never-before-seen pre-war archival footage and first-person testimonies\, Trezoros: The Greek Jews of Kastoria  chronicles the Jewish life and culture of Kastoria\, a picturesque lakeside village in the mountains of Northwestern Greece. Here\, Jews and Orthodox Christians lived together in harmony for more than two millennia until World War II. Trezoros (the Ladino/Judeo-Spanish term of endearment meaning “Treasures”) takes us from the joyful innocence of the pre-war years through the heartbreaking struggles of the Holocaust\, to a unique place in time and history of a Greek Jewish culture lost forever. Running time: 90 mins \nThis event is FREE for all.
URL:https://shamesjcc.npgdev.com/event/film-screening-trezoros-the-lost-greek-jews-of-kastoria-dir-larry-russo/
ATTACH;FMTTYPE=image/jpeg:https://shamesjcc.npgdev.com/wp-content/uploads/2024/06/Trezoros.jpg
END:VEVENT
END:VCALENDAR