BEGIN:VCALENDAR
VERSION:2.0
PRODID:-//Shames JCC - ECPv6.1.3//NONSGML v1.0//EN
CALSCALE:GREGORIAN
METHOD:PUBLISH
X-WR-CALNAME:Shames JCC
X-ORIGINAL-URL:https://shamesjcc.npgdev.com
X-WR-CALDESC:Events for Shames JCC
REFRESH-INTERVAL;VALUE=DURATION:PT1H
X-Robots-Tag:noindex
X-PUBLISHED-TTL:PT1H
BEGIN:VTIMEZONE
TZID:America/New_York
BEGIN:DAYLIGHT
TZOFFSETFROM:-0500
TZOFFSETTO:-0400
TZNAME:EDT
DTSTART:20230312T070000
END:DAYLIGHT
BEGIN:STANDARD
TZOFFSETFROM:-0400
TZOFFSETTO:-0500
TZNAME:EST
DTSTART:20231105T060000
END:STANDARD
END:VTIMEZONE
BEGIN:VEVENT
DTSTART;TZID=America/New_York:20231104T150000
DTEND;TZID=America/New_York:20231104T163000
DTSTAMP:20260422T193734
CREATED:20231006T164740Z
LAST-MODIFIED:20231006T164808Z
UID:29015-1699110000-1699115400@shamesjcc.npgdev.com
SUMMARY:Family Art-Making Workshop: Upcycle with Block Printing
DESCRIPTION:Turn something old into something new at our clothing upcycling workshop. Artist Erwin Ong will guide you through block printing and pattern-making basics with used clothes.  You will leave with your own creation and the skills to upcycle at home! Come with an article or two of clothing. Cotton or linen fabrics are best: shirts\, sweatshirts\, bandanas/scarves\, tote bags\, etc. This workshop is meant for caregivers  with children and is best for ages 4+. \n$8 per person for members\, $12 per person non-members.
URL:https://shamesjcc.npgdev.com/event/family-art-making-workshop-upcycle-with-block-printing/
CATEGORIES:Families
ATTACH;FMTTYPE=image/jpeg:https://shamesjcc.npgdev.com/wp-content/uploads/2023/10/block-printing.jpg
END:VEVENT
END:VCALENDAR