BEGIN:VCALENDAR
VERSION:2.0
PRODID:-//Shames JCC - ECPv6.1.3//NONSGML v1.0//EN
CALSCALE:GREGORIAN
METHOD:PUBLISH
X-WR-CALNAME:Shames JCC
X-ORIGINAL-URL:https://shamesjcc.npgdev.com
X-WR-CALDESC:Events for Shames JCC
REFRESH-INTERVAL;VALUE=DURATION:PT1H
X-Robots-Tag:noindex
X-PUBLISHED-TTL:PT1H
BEGIN:VTIMEZONE
TZID:America/New_York
BEGIN:DAYLIGHT
TZOFFSETFROM:-0500
TZOFFSETTO:-0400
TZNAME:EDT
DTSTART:20240310T070000
END:DAYLIGHT
BEGIN:STANDARD
TZOFFSETFROM:-0400
TZOFFSETTO:-0500
TZNAME:EST
DTSTART:20241103T060000
END:STANDARD
END:VTIMEZONE
BEGIN:VEVENT
DTSTART;TZID=America/New_York:20240227T150000
DTEND;TZID=America/New_York:20240227T170000
DTSTAMP:20260425T095139
CREATED:20240130T153638Z
LAST-MODIFIED:20240212T220646Z
UID:30063-1709046000-1709053200@shamesjcc.npgdev.com
SUMMARY:Birdie’s Batch Pop-Up
DESCRIPTION:Stop by the J for some special treats! Looking for a gift for a loved one? Birdie’s Batch will be selling hot chocolate mug gift sets which include a dark chocolate blend with homemade marshmallows. There will be raspberry and passion fruit curd linzers\, chocolate cakes\, apple butter rugelach\, and peanut butter s’mores! Craving something savory? Grab a crostata for an easy dinner (flavors include broccoli rabe\, eggplant\, zucchini\, and potato and spicy miso).
URL:https://shamesjcc.npgdev.com/event/birdies-batch-pop-up-4/
ATTACH;FMTTYPE=image/png:https://shamesjcc.npgdev.com/wp-content/uploads/2024/01/Birdies-Batch_smores.png
END:VEVENT
END:VCALENDAR