BEGIN:VCALENDAR
VERSION:2.0
PRODID:-//Shames JCC - ECPv6.1.3//NONSGML v1.0//EN
CALSCALE:GREGORIAN
METHOD:PUBLISH
X-WR-CALNAME:Shames JCC
X-ORIGINAL-URL:https://shamesjcc.npgdev.com
X-WR-CALDESC:Events for Shames JCC
REFRESH-INTERVAL;VALUE=DURATION:PT1H
X-Robots-Tag:noindex
X-PUBLISHED-TTL:PT1H
BEGIN:VTIMEZONE
TZID:America/New_York
BEGIN:DAYLIGHT
TZOFFSETFROM:-0500
TZOFFSETTO:-0400
TZNAME:EDT
DTSTART:20250309T070000
END:DAYLIGHT
BEGIN:STANDARD
TZOFFSETFROM:-0400
TZOFFSETTO:-0500
TZNAME:EST
DTSTART:20251102T060000
END:STANDARD
END:VTIMEZONE
BEGIN:VEVENT
DTSTART;TZID=America/New_York:20250203T100000
DTEND;TZID=America/New_York:20250203T113000
DTSTAMP:20260423T065848
CREATED:20241213T140838Z
LAST-MODIFIED:20241213T140838Z
UID:31985-1738576800-1738582200@shamesjcc.npgdev.com
SUMMARY:Archaeological and the American Revolution in the Mid and Lower Hudson Valley
DESCRIPTION:Did you know that events in what is now Westchester County played a big part in our nation’s founding? The extent to which our fledgling nation teetered on collapse after the Declaration of Independence is often forgotten– and Westchester was the site of some of the period’s most significant events that allowed the new nation to endure. This lecture will discuss the history and archaeology of the achievements that occurred during that fateful period\, including local historic landscapes of  events that have been lost to development. \nAbout the Presenter: Eugene Boesch is a professional archaeologist and cultural resources and historic preservation specialist who has undertaken compliance and research oriented investigations and related work for over 45 years in rural and urban settings documenting Pre-Contact\, Historic\, and Industrial sites and resources. He received a Ph.D. and other graduate degrees from New York University. Dr. Boesch’s work has primarily focused on Pre-Contact period cultures and adaptations in the Eastern Woodlands of North America and on early Euro-American settlement in the Hudson Valley region.
URL:https://shamesjcc.npgdev.com/event/archaeological-and-the-american-revolution-in-the-mid-and-lower-hudson-valley/
ATTACH;FMTTYPE=image/jpeg:https://shamesjcc.npgdev.com/wp-content/uploads/2024/12/revolutionary.jpg
END:VEVENT
END:VCALENDAR