BEGIN:VCALENDAR
VERSION:2.0
PRODID:-//Shames JCC - ECPv6.1.3//NONSGML v1.0//EN
CALSCALE:GREGORIAN
METHOD:PUBLISH
X-WR-CALNAME:Shames JCC
X-ORIGINAL-URL:https://shamesjcc.npgdev.com
X-WR-CALDESC:Events for Shames JCC
REFRESH-INTERVAL;VALUE=DURATION:PT1H
X-Robots-Tag:noindex
X-PUBLISHED-TTL:PT1H
BEGIN:VTIMEZONE
TZID:America/New_York
BEGIN:DAYLIGHT
TZOFFSETFROM:-0500
TZOFFSETTO:-0400
TZNAME:EDT
DTSTART:20220313T070000
END:DAYLIGHT
BEGIN:STANDARD
TZOFFSETFROM:-0400
TZOFFSETTO:-0500
TZNAME:EST
DTSTART:20221106T060000
END:STANDARD
END:VTIMEZONE
BEGIN:VEVENT
DTSTART;TZID=America/New_York:20220918T130000
DTEND;TZID=America/New_York:20220918T143000
DTSTAMP:20260423T133635
CREATED:20220907T124237Z
LAST-MODIFIED:20220907T124237Z
UID:26070-1663506000-1663511400@shamesjcc.npgdev.com
SUMMARY:Apples and Honey Northern Westchester Fall Festival
DESCRIPTION:Start the year off sweet with Young Judaea Sprout Westchester Day Camp and Welcome the Westchester Shinshinim for the 2022-2023 year \nCome join us for family-friendly\, fall-themed activities including pumpkin picking and decorating and enjoy apples and honey! \nSprout Westchester Camp Tours begin at 2:30 pm!
URL:https://shamesjcc.npgdev.com/event/apples-and-honey-northern-westchester-fall-festival/
ATTACH;FMTTYPE=image/png:https://shamesjcc.npgdev.com/wp-content/uploads/2022/09/image001-1.png
END:VEVENT
END:VCALENDAR