BEGIN:VCALENDAR
VERSION:2.0
PRODID:-//Shames JCC - ECPv6.1.3//NONSGML v1.0//EN
CALSCALE:GREGORIAN
METHOD:PUBLISH
X-WR-CALNAME:Shames JCC
X-ORIGINAL-URL:https://shamesjcc.npgdev.com
X-WR-CALDESC:Events for Shames JCC
REFRESH-INTERVAL;VALUE=DURATION:PT1H
X-Robots-Tag:noindex
X-PUBLISHED-TTL:PT1H
BEGIN:VTIMEZONE
TZID:America/New_York
BEGIN:DAYLIGHT
TZOFFSETFROM:-0500
TZOFFSETTO:-0400
TZNAME:EDT
DTSTART:20240310T070000
END:DAYLIGHT
BEGIN:STANDARD
TZOFFSETFROM:-0400
TZOFFSETTO:-0500
TZNAME:EST
DTSTART:20241103T060000
END:STANDARD
END:VTIMEZONE
BEGIN:VEVENT
DTSTART;TZID=America/New_York:20240127T083000
DTEND;TZID=America/New_York:20240127T093000
DTSTAMP:20260424T012605
CREATED:20240105T171329Z
LAST-MODIFIED:20240105T171912Z
UID:29716-1706344200-1706347800@shamesjcc.npgdev.com
SUMMARY:An Hour of WOW
DESCRIPTION:Come celebrate a year of WOW with an extra special class; all four of your WOW instructors\, 14 stations\, and 15 extra minutes! We will be using the entire gymnasium (basketball) and will have space for 2 people per station (28 total).
URL:https://shamesjcc.npgdev.com/event/an-hour-of-wow/
ATTACH;FMTTYPE=image/png:https://shamesjcc.npgdev.com/wp-content/uploads/2024/01/WOW_graphic.png
END:VEVENT
END:VCALENDAR